BEGIN:VCALENDAR
VERSION:2.0
PRODID:-//Distro Music Hall - ECPv6.15.20//NONSGML v1.0//EN
CALSCALE:GREGORIAN
METHOD:PUBLISH
X-WR-CALNAME:Distro Music Hall
X-ORIGINAL-URL:https://distromusichall.com
X-WR-CALDESC:Events for Distro Music Hall
REFRESH-INTERVAL;VALUE=DURATION:PT1H
X-Robots-Tag:noindex
X-PUBLISHED-TTL:PT1H
BEGIN:VTIMEZONE
TZID:America/Chicago
BEGIN:DAYLIGHT
TZOFFSETFROM:-0600
TZOFFSETTO:-0500
TZNAME:CDT
DTSTART:20230312T080000
END:DAYLIGHT
BEGIN:STANDARD
TZOFFSETFROM:-0500
TZOFFSETTO:-0600
TZNAME:CST
DTSTART:20231105T070000
END:STANDARD
BEGIN:DAYLIGHT
TZOFFSETFROM:-0600
TZOFFSETTO:-0500
TZNAME:CDT
DTSTART:20240310T080000
END:DAYLIGHT
BEGIN:STANDARD
TZOFFSETFROM:-0500
TZOFFSETTO:-0600
TZNAME:CST
DTSTART:20241103T070000
END:STANDARD
BEGIN:DAYLIGHT
TZOFFSETFROM:-0600
TZOFFSETTO:-0500
TZNAME:CDT
DTSTART:20250309T080000
END:DAYLIGHT
BEGIN:STANDARD
TZOFFSETFROM:-0500
TZOFFSETTO:-0600
TZNAME:CST
DTSTART:20251102T070000
END:STANDARD
BEGIN:DAYLIGHT
TZOFFSETFROM:-0600
TZOFFSETTO:-0500
TZNAME:CDT
DTSTART:20260308T080000
END:DAYLIGHT
BEGIN:STANDARD
TZOFFSETFROM:-0500
TZOFFSETTO:-0600
TZNAME:CST
DTSTART:20261101T070000
END:STANDARD
END:VTIMEZONE
BEGIN:VEVENT
DTSTART;VALUE=DATE:20250603
DTEND;VALUE=DATE:20250604
DTSTAMP:20260420T201614
CREATED:20240603T191813Z
LAST-MODIFIED:20250516T145710Z
UID:20477-1748908800-1748995199@distromusichall.com
SUMMARY:PORTER & HELLO SEAHORSE!
DESCRIPTION:
URL:https://distromusichall.com/event/porter-hello-seahorse/
LOCATION:DISTRO MUSIC HALL\, 6815 Roosevelt Rd Berwyn\,\, Chicago\, IL\, United States
CATEGORIES:Event
ATTACH;FMTTYPE=image/jpeg:https://distromusichall.com/wp-content/uploads/2024/06/Porter_Hello_Comunicado_F_EN-2.jpeg
ORGANIZER;CN="DISTRO MUSIC HALL":MAILTO:info@distromusichalll.com
END:VEVENT
BEGIN:VEVENT
DTSTART;VALUE=DATE:20250510
DTEND;VALUE=DATE:20250511
DTSTAMP:20260420T201614
CREATED:20240511T021218Z
LAST-MODIFIED:20250425T150006Z
UID:20493-1746835200-1746921599@distromusichall.com
SUMMARY:ORO SOLIDO / MALA FE
DESCRIPTION:
URL:https://distromusichall.com/event/oro-solido-mala-fe/
LOCATION:DISTRO MUSIC HALL\, 6815 Roosevelt Rd Berwyn\,\, Chicago\, IL\, United States
CATEGORIES:Event
ATTACH;FMTTYPE=image/jpeg:https://distromusichall.com/wp-content/uploads/2024/05/89319f70-5969-40b4-be0d-d0f41de1868b-2.jpg
ORGANIZER;CN="DISTRO MUSIC HALL":MAILTO:info@distromusichalll.com
END:VEVENT
BEGIN:VEVENT
DTSTART;VALUE=DATE:20250314
DTEND;VALUE=DATE:20250316
DTSTAMP:20260420T201614
CREATED:20240315T021816Z
LAST-MODIFIED:20250313T202113Z
UID:18710-1741910400-1742083199@distromusichall.com
SUMMARY:OHGEESY
DESCRIPTION:
URL:https://distromusichall.com/event/ohgeesy/
LOCATION:DISTRO MUSIC HALL\, 6815 Roosevelt Rd Berwyn\,\, Chicago\, IL\, United States
CATEGORIES:Event
ATTACH;FMTTYPE=image/jpeg:https://distromusichall.com/wp-content/uploads/2025/02/IMG_4261-2.jpg
ORGANIZER;CN="DISTRO MUSIC HALL":MAILTO:info@distromusichalll.com
END:VEVENT
BEGIN:VEVENT
DTSTART;VALUE=DATE:20250313
DTEND;VALUE=DATE:20250315
DTSTAMP:20260420T201614
CREATED:20240314T013509Z
LAST-MODIFIED:20250313T202152Z
UID:19154-1741824000-1741996799@distromusichall.com
SUMMARY:RAFA PEREZ
DESCRIPTION:
URL:https://distromusichall.com/event/rafa-perez/
LOCATION:DISTRO MUSIC HALL\, 6815 Roosevelt Rd Berwyn\,\, Chicago\, IL\, United States
CATEGORIES:Event
ATTACH;FMTTYPE=image/jpeg:https://distromusichall.com/wp-content/uploads/2024/03/IMG_7267-2.jpg
ORGANIZER;CN="DISTRO MUSIC HALL":MAILTO:info@distromusichalll.com
END:VEVENT
BEGIN:VEVENT
DTSTART;TZID=America/Chicago:20250308T000000
DTEND;TZID=America/Chicago:20250309T030000
DTSTAMP:20260420T201614
CREATED:20240309T032613Z
LAST-MODIFIED:20250309T055803Z
UID:18757-1741392000-1741489200@distromusichall.com
SUMMARY:DALEX
DESCRIPTION:
URL:https://distromusichall.com/event/dalex/
LOCATION:DISTRO MUSIC HALL\, 6815 Roosevelt Rd Berwyn\,\, Chicago\, IL\, United States
CATEGORIES:Event
ATTACH;FMTTYPE=image/jpeg:https://distromusichall.com/wp-content/uploads/2024/03/Mar-8-Dalex-2.jpeg
ORGANIZER;CN="DISTRO MUSIC HALL":MAILTO:info@distromusichalll.com
END:VEVENT
BEGIN:VEVENT
DTSTART;VALUE=DATE:20250301
DTEND;VALUE=DATE:20250302
DTSTAMP:20260420T201614
CREATED:20240301T150453Z
LAST-MODIFIED:20250228T163754Z
UID:19353-1740787200-1740873599@distromusichall.com
SUMMARY:DALE DURO
DESCRIPTION:
URL:https://distromusichall.com/event/dale-duro/
LOCATION:DISTRO MUSIC HALL\, 6815 Roosevelt Rd Berwyn\,\, Chicago\, IL\, United States
CATEGORIES:Event
ATTACH;FMTTYPE=image/jpeg:https://distromusichall.com/wp-content/uploads/2025/02/Mar-1-Dale-Duro-2.jpeg
ORGANIZER;CN="DISTRO MUSIC HALL":MAILTO:info@distromusichalll.com
END:VEVENT
BEGIN:VEVENT
DTSTART;VALUE=DATE:20250221
DTEND;VALUE=DATE:20250222
DTSTAMP:20260420T201614
CREATED:20240222T030501Z
LAST-MODIFIED:20250222T003332Z
UID:19015-1740096000-1740182399@distromusichall.com
SUMMARY:ACT BAD
DESCRIPTION:
URL:https://distromusichall.com/event/act-bad/
LOCATION:DISTRO MUSIC HALL\, 6815 Roosevelt Rd Berwyn\,\, Chicago\, IL\, United States
ATTACH;FMTTYPE=image/jpeg:https://distromusichall.com/wp-content/uploads/2024/02/Feb-21-Act-Bad-IG-2.jpeg
ORGANIZER;CN="DISTRO MUSIC HALL":MAILTO:info@distromusichalll.com
END:VEVENT
BEGIN:VEVENT
DTSTART;VALUE=DATE:20250215
DTEND;VALUE=DATE:20250216
DTSTAMP:20260420T201614
CREATED:20240216T040159Z
LAST-MODIFIED:20250214T081211Z
UID:18026-1739577600-1739663999@distromusichall.com
SUMMARY:GIANNI BLU
DESCRIPTION:
URL:https://distromusichall.com/event/gianni-blu/
LOCATION:DISTRO MUSIC HALL\, 6815 Roosevelt Rd Berwyn\,\, Chicago\, IL\, United States
ORGANIZER;CN="DISTRO MUSIC HALL":MAILTO:info@distromusichalll.com
END:VEVENT
BEGIN:VEVENT
DTSTART;VALUE=DATE:20250214
DTEND;VALUE=DATE:20250215
DTSTAMP:20260420T201614
CREATED:20240215T015546Z
LAST-MODIFIED:20250214T081938Z
UID:17742-1739491200-1739577599@distromusichall.com
SUMMARY:SANTEA VALENTINE'S DAY EVENT
DESCRIPTION:
URL:https://distromusichall.com/event/santea-valentines-day-event/
LOCATION:DISTRO MUSIC HALL\, 6815 Roosevelt Rd Berwyn\,\, Chicago\, IL\, United States
CATEGORIES:Event
ATTACH;FMTTYPE=image/jpeg:https://distromusichall.com/wp-content/uploads/2025/01/Feb-14-Santea-IG-2.jpg
ORGANIZER;CN="DISTRO MUSIC HALL":MAILTO:info@distromusichalll.com
END:VEVENT
BEGIN:VEVENT
DTSTART;VALUE=DATE:20250208
DTEND;VALUE=DATE:20250209
DTSTAMP:20260420T201614
CREATED:20240208T183432Z
LAST-MODIFIED:20250208T205831Z
UID:17581-1738972800-1739059199@distromusichall.com
SUMMARY:REGGAETON SATURDAYS FEB 8
DESCRIPTION:
URL:https://distromusichall.com/event/reggaeton-saturdays-feb-8/
LOCATION:DISTRO MUSIC HALL\, 6815 Roosevelt Rd Berwyn\,\, Chicago\, IL\, United States
CATEGORIES:Event
ATTACH;FMTTYPE=image/jpeg:https://distromusichall.com/wp-content/uploads/2025/01/Feb-8-Distro-Tulum-Experience-Dimeo-IG-2.jpeg
END:VEVENT
BEGIN:VEVENT
DTSTART;VALUE=DATE:20250208
DTEND;VALUE=DATE:20250209
DTSTAMP:20260420T201614
CREATED:20240208T164443Z
LAST-MODIFIED:20250129T165419Z
UID:17636-1738972800-1739059199@distromusichall.com
SUMMARY:DISTRO COMEDY SHOW
DESCRIPTION:
URL:https://distromusichall.com/event/distro-comedy-show/
LOCATION:DISTRO MUSIC HALL\, 6815 Roosevelt Rd Berwyn\,\, Chicago\, IL\, United States
CATEGORIES:Event
ATTACH;FMTTYPE=image/png:https://distromusichall.com/wp-content/uploads/2025/01/Feb-8-Ruben-Ramirez-2.png
ORGANIZER;CN="DISTRO MUSIC HALL":MAILTO:info@distromusichalll.com
END:VEVENT
BEGIN:VEVENT
DTSTART;VALUE=DATE:20250207
DTEND;VALUE=DATE:20250208
DTSTAMP:20260420T201614
CREATED:20240208T032744Z
LAST-MODIFIED:20250207T153721Z
UID:17574-1738886400-1738972799@distromusichall.com
SUMMARY:LATIN HOUSE FRIDAYS FEB 7
DESCRIPTION:
URL:https://distromusichall.com/event/latin-house-fridays-feb-7/
LOCATION:DISTRO MUSIC HALL\, 6815 Roosevelt Rd Berwyn\,\, Chicago\, IL\, United States
CATEGORIES:Event
ATTACH;FMTTYPE=image/png:https://distromusichall.com/wp-content/uploads/2025/01/Feb-7-Distro-Tulum-Experience-Nano-IG-2.png
END:VEVENT
BEGIN:VEVENT
DTSTART;VALUE=DATE:20241231
DTEND;VALUE=DATE:20250101
DTSTAMP:20260420T201614
CREATED:20231231T205328Z
LAST-MODIFIED:20241120T194824Z
UID:17451-1735603200-1735689599@distromusichall.com
SUMMARY:DIVISION MINUSCULA - DEC 31
DESCRIPTION:
URL:https://distromusichall.com/event/division-minuscula-dec-31/
LOCATION:DISTRO MUSIC HALL\, 6815 Roosevelt Rd Berwyn\,\, Chicago\, IL\, United States
CATEGORIES:Event
ATTACH;FMTTYPE=image/jpeg:https://distromusichall.com/wp-content/uploads/2023/12/09c8c480-1b36-459b-be3a-ddd5282a234e-2.jpg
ORGANIZER;CN="DISTRO MUSIC HALL":MAILTO:info@distromusichalll.com
END:VEVENT
BEGIN:VEVENT
DTSTART;VALUE=DATE:20241130
DTEND;VALUE=DATE:20241201
DTSTAMP:20260420T201614
CREATED:20231130T141736Z
LAST-MODIFIED:20241116T023608Z
UID:17472-1732924800-1733011199@distromusichall.com
SUMMARY:ECLIPZE - NOV 30
DESCRIPTION:[vc_row][vc_column width=”2/3″][vc_single_image image=”17471″ img_size=”full” css=””][/vc_column][vc_column width=”1/3″][vc_column_text css=””] \nPrimer show en 25 años\nDoors: 9:00 PM\nAGE RESTRICTIONS: 21 & over \n$15 EARLY BIRD\n$20 DayOfShow[/vc_column_text][/vc_column][/vc_row]
URL:https://distromusichall.com/event/eclipze/
LOCATION:DISTRO MUSIC HALL\, 6815 Roosevelt Rd Berwyn\,\, Chicago\, IL\, United States
ORGANIZER;CN="DISTRO MUSIC HALL":MAILTO:info@distromusichalll.com
END:VEVENT
BEGIN:VEVENT
DTSTART;TZID=America/Chicago:20241008T203000
DTEND;TZID=America/Chicago:20241130T203000
DTSTAMP:20260420T201614
CREATED:20240826T171507Z
LAST-MODIFIED:20241008T202834Z
UID:17346-1728419400-1732998600@distromusichall.com
SUMMARY:Test Event
DESCRIPTION:
URL:https://distromusichall.com/event/test-event/
LOCATION:IL
CATEGORIES:Event
ATTACH;FMTTYPE=image/jpeg:https://distromusichall.com/wp-content/uploads/2020/02/blocks-image-109.jpg
END:VEVENT
BEGIN:VEVENT
DTSTART;TZID=America/Chicago:20240713T210000
DTEND;TZID=America/Chicago:20240713T210000
DTSTAMP:20260420T201614
CREATED:20240627T195959Z
LAST-MODIFIED:20240627T202955Z
UID:17237-1720904400-1720904400@distromusichall.com
SUMMARY:Kpop Club Night in Chicago
DESCRIPTION:July 13 @ 9:00 pm – $28.00\nLet’s go for round 2 at the awesome DISTRO MUSIC HALL in Berwyn on Saturday July 13th with mixmaster DJ Yuka K and the world-famous Kpop Club Night crew for an absolutely Perfect Night! Plenty of space to dance\, lots of good soju and super nice vibes! \nDoors open at 9pm and goes late.\nMust be 21+\, Government issued ID required. \nWhat’s our party like? Check these videos from our last event in Chicago: https://www.instagram.com/p/CwoRuERv6jY/?img_index=1
URL:https://distromusichall.com/event/kpop-club-night-in-chicago/
LOCATION:DISTRO MUSIC HALL\, 6815 Roosevelt Rd Berwyn\,\, Chicago\, IL\, United States
CATEGORIES:Event
ATTACH;FMTTYPE=image/jpeg:https://distromusichall.com/wp-content/uploads/2024/06/Kpop-Club-Night-in-Chicago.jpg
ORGANIZER;CN="DISTRO MUSIC HALL":MAILTO:info@distromusichalll.com
END:VEVENT
END:VCALENDAR